BEGIN:VCALENDAR
PRODID:-//kirchenweb.ch gmbh//veranstaltungsausgabe v2.0//DE
VERSION:2.0
METHOD:PUBLISH
BEGIN:VEVENT
DTSTART:20260606T070000Z
DTEND:20260606T120000Z
LOCATION:Sommer im Feld\, -\, 9230 Flawil
TRANSP:OPAQUE
SEQUENCE:0
UID:40270-veranstaltung@kirche-gossau-flawil.ch
DTSTAMP:20260401T065542Z
DESCRIPTION:Komm vorbei und pack mit an\, wenn der Sommer im Feld
  aufgebaut wird. Wenn es dir möglich ist\, sind wir dankbar um eine kurze
  Vorinfo an mithelfen@im-feld.ch\, du kannst aber auch ganz spontan
  kommen. Für Znüni und Zmittag wird gesorgt. Falls du hast\, sind
  Arbeitshandschuhe und Akkuschrauber sehr willkommen.\n\nKontakt: Daniela
  Zillig\n\nWeitere Infos:
  https://www.kirche-gossau-flawil.ch/veranstaltung/40270
SUMMARY:Aufbautag "Sommer im Feld"
PRIORITY:5
X-MICROSOFT-CDO-IMPORTANCE:1
CLASS:PUBLIC
END:VEVENT
END:VCALENDAR
