BEGIN:VCALENDAR
PRODID:-//kirchenweb.ch gmbh//veranstaltungsausgabe v2.0//DE
VERSION:2.0
METHOD:PUBLISH
BEGIN:VEVENT
DTSTART:20261020T093000Z
DTEND:20261020T103000Z
LOCATION:Kirchgemeindezentrum Zwinglisaal\, Lindenstrasse 6a\, 9230 Flawil
TRANSP:OPAQUE
SEQUENCE:0
UID:45379-veranstaltung@kirche-gossau-flawil.ch
DTSTAMP:20260127T070759Z
DESCRIPTION:Kontakt: Sekretariat\n\nWeitere Infos:
  https://www.kirche-gossau-flawil.ch/veranstaltung/45379
SUMMARY:Mittagstreff
PRIORITY:5
X-MICROSOFT-CDO-IMPORTANCE:1
CLASS:PUBLIC
END:VEVENT
END:VCALENDAR
