BEGIN:VCALENDAR
PRODID:-//kirchenweb.ch gmbh//veranstaltungsausgabe v2.0//DE
VERSION:2.0
METHOD:PUBLISH
BEGIN:VEVENT
DTSTART:20260723T070000Z
DTEND:20260723T080000Z
LOCATION:Café Dober\, Wilerstrasse 73\, 9230 Flawil
TRANSP:OPAQUE
SEQUENCE:0
UID:45384-veranstaltung@kirche-gossau-flawil.ch
DTSTAMP:20251007T143828Z
DESCRIPTION:Kontakt: Sekretariat\n\nWeitere Infos:
  https://www.kirche-gossau-flawil.ch/veranstaltung/45384
SUMMARY:Mittagstreff - Brunch
PRIORITY:5
X-MICROSOFT-CDO-IMPORTANCE:1
CLASS:PUBLIC
END:VEVENT
END:VCALENDAR
