BEGIN:VCALENDAR
PRODID:-//kirchenweb.ch gmbh//veranstaltungsausgabe v2.0//DE
VERSION:2.0
METHOD:PUBLISH
BEGIN:VEVENT
DTSTART;VALUE=DATE:20261006
DTEND;VALUE=DATE:20261007
LOCATION:ab Flawil\, \, 9230 Flawil
TRANSP:OPAQUE
SEQUENCE:0
UID:45475-veranstaltung@kirche-gossau-flawil.ch
DTSTAMP:20260415T074218Z
DESCRIPTION:Details folgen!\n\nKontakt: Sekretariat\n\nWeitere Infos:
  https://www.kirche-gossau-flawil.ch/veranstaltung/45475
SUMMARY:Treff 60 plus - Ausflug
PRIORITY:5
X-MICROSOFT-CDO-IMPORTANCE:1
CLASS:PUBLIC
END:VEVENT
END:VCALENDAR
