BEGIN:VCALENDAR
PRODID:-//kirchenweb.ch gmbh//veranstaltungsausgabe v2.0//DE
VERSION:2.0
METHOD:PUBLISH
BEGIN:VEVENT
DTSTART:20260724T140000Z
DTEND:20260724T150000Z
LOCATION:WPH/Kapelle\, \, 9230 Flawil
TRANSP:OPAQUE
SEQUENCE:0
UID:45599-veranstaltung@kirche-gossau-flawil.ch
DTSTAMP:20260128T075646Z
DESCRIPTION:Kontakt: Pfarrer Mark Hampton\n\nWeitere Infos:
  https://www.kirche-gossau-flawil.ch/veranstaltung/45599
SUMMARY:Andacht
PRIORITY:5
X-MICROSOFT-CDO-IMPORTANCE:1
CLASS:PUBLIC
END:VEVENT
END:VCALENDAR
