BEGIN:VCALENDAR
PRODID:-//kirchenweb.ch gmbh//veranstaltungsausgabe v2.0//DE
VERSION:2.0
METHOD:PUBLISH
BEGIN:VEVENT
DTSTART:20261030T160000Z
DTEND:20261030T170000Z
LOCATION:Alterssiedlung Wisental\, Wisentalweg\, 9230 Flawil
TRANSP:OPAQUE
SEQUENCE:0
UID:45613-veranstaltung@kirche-gossau-flawil.ch
DTSTAMP:20260128T075856Z
DESCRIPTION:Kontakt: Pfarrer Mark Hampton\n\nWeitere Infos:
  https://www.kirche-gossau-flawil.ch/veranstaltung/45613
SUMMARY:Andacht
PRIORITY:5
X-MICROSOFT-CDO-IMPORTANCE:1
CLASS:PUBLIC
END:VEVENT
END:VCALENDAR
