BEGIN:VCALENDAR
PRODID:-//kirchenweb.ch gmbh//veranstaltungsausgabe v2.0//DE
VERSION:2.0
METHOD:PUBLISH
BEGIN:VEVENT
DTSTART:20261002T140000Z
DTEND:20261002T150000Z
LOCATION:WPH Kapelle\, Krankenhausstrasse 5\, 9230 Flawil
TRANSP:OPAQUE
SEQUENCE:0
UID:45616-veranstaltung@kirche-gossau-flawil.ch
DTSTAMP:20260128T075803Z
DESCRIPTION:Kontakt: Pfarrer Mark Hampton\n\nWeitere Infos:
  https://www.kirche-gossau-flawil.ch/veranstaltung/45616
SUMMARY:Andacht ökumenisch WPH
PRIORITY:5
X-MICROSOFT-CDO-IMPORTANCE:1
CLASS:PUBLIC
END:VEVENT
END:VCALENDAR
