BEGIN:VCALENDAR
PRODID:-//kirchenweb.ch gmbh//veranstaltungsausgabe v2.0//DE
VERSION:2.0
METHOD:PUBLISH
BEGIN:VEVENT
DTSTART:20260426T083000Z
DTEND:20260426T093000Z
LOCATION:Kirche Niederwil\, \, 9203 Niederwil
TRANSP:OPAQUE
SEQUENCE:0
UID:45627-veranstaltung@kirche-gossau-flawil.ch
DTSTAMP:20260416T041344Z
DESCRIPTION:Kontakt: Pfrn. Christina Egli\nKarin Halter\n\nWeitere Infos:
  https://www.kirche-gossau-flawil.ch/veranstaltung/45627
SUMMARY:"gemeinsamzeit" mit Taufe  in NIederwil
PRIORITY:5
X-MICROSOFT-CDO-IMPORTANCE:1
CLASS:PUBLIC
END:VEVENT
END:VCALENDAR
