BEGIN:VCALENDAR
PRODID:-//kirchenweb.ch gmbh//veranstaltungsausgabe v2.0//DE
VERSION:2.0
METHOD:PUBLISH
BEGIN:VEVENT
DTSTART:20261020T090000Z
DTEND:20261020T093000Z
LOCATION:Meditationsraum\,  Kirche Feld\, 9230 Flawil
TRANSP:OPAQUE
SEQUENCE:0
UID:45783-veranstaltung@kirche-gossau-flawil.ch
DTSTAMP:20251127T055817Z
DESCRIPTION:Wir unterbrechen den Tageslauf\, die Arbeit\, das Studieren
  und die Gespräche. Wir kehren ein\, um innerlich Ruhe zu finden.\n
 \nKontakt: Pfarrer Mark Hampton\, Ruth Moosberger\n\nWeitere Infos:
  https://www.kirche-gossau-flawil.ch/veranstaltung/45783
SUMMARY:Stille und Gebet
PRIORITY:5
X-MICROSOFT-CDO-IMPORTANCE:1
CLASS:PUBLIC
END:VEVENT
END:VCALENDAR
