BEGIN:VCALENDAR
PRODID:-//kirchenweb.ch gmbh//veranstaltungsausgabe v2.0//DE
VERSION:2.0
METHOD:PUBLISH
BEGIN:VEVENT
DTSTART:20260927T080000Z
DTEND:20260927T090000Z
LOCATION:Kirche Oberglatt\, Oberglatt\, 9230 Flawil
TRANSP:OPAQUE
SEQUENCE:0
UID:45926-veranstaltung@kirche-gossau-flawil.ch
DTSTAMP:20260127T063320Z
DESCRIPTION:Kontakt: Pfrn. Christina Egli\n\nWeitere Infos:
  https://www.kirche-gossau-flawil.ch/veranstaltung/45926
SUMMARY:Musikalische Morgenfeier
PRIORITY:5
X-MICROSOFT-CDO-IMPORTANCE:1
CLASS:PUBLIC
END:VEVENT
END:VCALENDAR
