BEGIN:VCALENDAR
PRODID:-//kirchenweb.ch gmbh//veranstaltungsausgabe v2.0//DE
VERSION:2.0
METHOD:PUBLISH
BEGIN:VEVENT
DTSTART:20261011T074000Z
DTEND:20261011T084000Z
LOCATION:Kirche Haldenbüel Gossau\, \, 9200 Gossau
TRANSP:OPAQUE
SEQUENCE:0
UID:45927-veranstaltung@kirche-gossau-flawil.ch
DTSTAMP:20251028T061739Z
DESCRIPTION:Mitenand regional\n\nKontakt: Pfrn. Christina Egli\n\nWeitere
  Infos: https://www.kirche-gossau-flawil.ch/veranstaltung/45927
SUMMARY:Einladungs-Gottesdienst in Gossau
PRIORITY:5
X-MICROSOFT-CDO-IMPORTANCE:1
CLASS:PUBLIC
END:VEVENT
END:VCALENDAR
