BEGIN:VCALENDAR
PRODID:-//kirchenweb.ch gmbh//veranstaltungsausgabe v2.0//DE
VERSION:2.0
METHOD:PUBLISH
BEGIN:VEVENT
DTSTART:20261018T080000Z
DTEND:20261018T090000Z
LOCATION:Kirche Oberglatt\, Oberglatt\, 9230 Flawil
TRANSP:OPAQUE
SEQUENCE:0
UID:45928-veranstaltung@kirche-gossau-flawil.ch
DTSTAMP:20260127T065524Z
DESCRIPTION:Mitenand regional\n\nKontakt: Pfrn. Sabine Gritzner-Stoffers\n
 \nWeitere Infos: https://www.kirche-gossau-flawil.ch/veranstaltung/45928
SUMMARY:Einladungs-Gottesdienst in Flawil
PRIORITY:5
X-MICROSOFT-CDO-IMPORTANCE:1
CLASS:PUBLIC
END:VEVENT
END:VCALENDAR
