BEGIN:VCALENDAR
PRODID:-//kirchenweb.ch gmbh//veranstaltungsausgabe v2.0//DE
VERSION:2.0
METHOD:PUBLISH
BEGIN:VEVENT
DTSTART:20261025T160000Z
DTEND:20261025T170000Z
LOCATION:Kirche Niederwil\, 9203\, Niederwil
TRANSP:OPAQUE
SEQUENCE:0
UID:45929-veranstaltung@kirche-gossau-flawil.ch
DTSTAMP:20251028T062214Z
DESCRIPTION:Kontakt: Pfrn. Christina Egli\nUrs Leuenberger\n\n\nWeitere
  Infos: https://www.kirche-gossau-flawil.ch/veranstaltung/45929
SUMMARY:Ökum. Gospelchurch in Niederwil
PRIORITY:5
X-MICROSOFT-CDO-IMPORTANCE:1
CLASS:PUBLIC
END:VEVENT
END:VCALENDAR
