BEGIN:VCALENDAR
PRODID:-//kirchenweb.ch gmbh//veranstaltungsausgabe v2.0//DE
VERSION:2.0
METHOD:PUBLISH
BEGIN:VEVENT
DTSTART:20261115T093000Z
DTEND:20261115T103000Z
LOCATION:Kirche Niederwil\, \, 9203 Niederwil
TRANSP:OPAQUE
SEQUENCE:0
UID:45930-veranstaltung@kirche-gossau-flawil.ch
DTSTAMP:20251124T144012Z
DESCRIPTION:anschliessend Zmittag\n\nKontakt: Pfrn. Christina Egli und
  Karin Halter\n\nWeitere Infos:
  https://www.kirche-gossau-flawil.ch/veranstaltung/45930
SUMMARY:Klassischer Gottesdienst in Niederwil (Taufsonntag)
PRIORITY:5
X-MICROSOFT-CDO-IMPORTANCE:1
CLASS:PUBLIC
END:VEVENT
END:VCALENDAR
