BEGIN:VCALENDAR
PRODID:-//kirchenweb.ch gmbh//veranstaltungsausgabe v2.0//DE
VERSION:2.0
METHOD:PUBLISH
BEGIN:VEVENT
DTSTART:20261216T123000Z
DTEND:20261216T143000Z
LOCATION:Jugendraum KGZ\, Lindenstrasse 6a\, 9230 Flawil
TRANSP:OPAQUE
SEQUENCE:0
UID:45970-veranstaltung@kirche-gossau-flawil.ch
DTSTAMP:20251030T084311Z
DESCRIPTION:Feld-Atelier für Kinder (ab Kindergarten bis 5. Klasse)\n
 \nVon 13.30 bis 15.30 Uhr hören wir Geschichten\, basteln\, rätseln\,
  spielen\, springen\, backen und entdecken Neues. Lass dich überraschen.
 \n\nWir treffen uns im Foyer des Kirchgemeindezentrum der Reformierten
  Kirchgemeinde:\n\nBitte dem Wetter entsprechende Kleidung anziehen\, da
  das Feld-Atelier auch draussen stattfinden kann. Weitere Informationen
  sind auf der Webseite www.ref-flawil.ch ersichtlich.\n\nUnser
  Kollektenkässeli steht jeweils bereit. Das gesammelte Geld kommt der
  Stiftung Theodora zugute.\n\nDas Feld-Atelier Team freut sich auf dich.\n
 \nWer eine Fahrgelegenheit von Niederwil nach Flawil und umgekehrt
  braucht\, meldet sich bitte bei Karin Halter 079 504 03 42.\n\nKontakt:
  Karin Gubser\n\nWeitere Infos:
  https://www.kirche-gossau-flawil.ch/veranstaltung/45970
SUMMARY:Feld-Atelier
PRIORITY:5
X-MICROSOFT-CDO-IMPORTANCE:1
CLASS:PUBLIC
END:VEVENT
END:VCALENDAR
