BEGIN:VCALENDAR
PRODID:-//kirchenweb.ch gmbh//veranstaltungsausgabe v2.0//DE
VERSION:2.0
METHOD:PUBLISH
BEGIN:VEVENT
DTSTART:20260913T080000Z
DTEND:20260913T090000Z
LOCATION:Kirche Feld\, St.Gallerstrasse\, 9230 Flawil
TRANSP:OPAQUE
SEQUENCE:0
UID:46154-veranstaltung@kirche-gossau-flawil.ch
DTSTAMP:20260416T063633Z
DESCRIPTION:Kontakt: Pfrn. Christina Egli und Team\n\nWeitere Infos:
  https://www.kirche-gossau-flawil.ch/veranstaltung/46154
SUMMARY:"gemeinsamzeit"\, Tauferinnerungs-Gottesdienst und Taufsonntag
PRIORITY:5
X-MICROSOFT-CDO-IMPORTANCE:1
CLASS:PUBLIC
END:VEVENT
END:VCALENDAR
