BEGIN:VCALENDAR
PRODID:-//kirchenweb.ch gmbh//veranstaltungsausgabe v2.0//DE
VERSION:2.0
METHOD:PUBLISH
BEGIN:VEVENT
DTSTART:20261003T171900Z
DTEND:20261003T181500Z
LOCATION:Meditationsraum\,  Kirche Feld\, 9230 Flawil
TRANSP:OPAQUE
SEQUENCE:0
UID:46156-veranstaltung@kirche-gossau-flawil.ch
DTSTAMP:20260209T154356Z
DESCRIPTION:Die Feier bietet Raum für die Einkehr\, bei Gott und bei sich
  selbst. Tragende Musik\, Texte\, Gebete und ein Impuls führen hin zur
  gemeinsamen Stille.\n\nKontakt: Pfrn. Sabine Gritzner-Stoffers\n\nWeitere
  Infos: https://www.kirche-gossau-flawil.ch/veranstaltung/46156
SUMMARY:Meditative Abendfeier "Aufatmen"
PRIORITY:5
X-MICROSOFT-CDO-IMPORTANCE:1
CLASS:PUBLIC
END:VEVENT
END:VCALENDAR
