BEGIN:VCALENDAR
PRODID:-//kirchenweb.ch gmbh//veranstaltungsausgabe v2.0//DE
VERSION:2.0
METHOD:PUBLISH
BEGIN:VEVENT
DTSTART:20260816T090000Z
DTEND:20260816T100000Z
LOCATION:Sommer im Feld\, \,  Flawil
TRANSP:OPAQUE
SEQUENCE:0
UID:46157-veranstaltung@kirche-gossau-flawil.ch
DTSTAMP:20260416T063300Z
DESCRIPTION:Wir freuen uns\, Sie zusammen mit Ihrem Taufkind\, den
  Geschwistern\, Grosseltern\, Gottis und Göttis zur Taufschiffli-Feier im
  Rahmen von «Sommer im Feld» zu begrüssen. Wir erinnern uns während
  der rund halbstündigen Familienfeier nochmals an die Taufe Ihres Kindes
  und übergeben Ihnen anschliessend Ihr Taufschiffli. Nach der Feier gibt
  es die Möglichkeit sich in der Feldbeiz zu verpflegen und im «Sommer im
  Feld» zu verweilen.\nBei schlechtem Wetter findet die Taufschiffli-Feier
  in der Kirche Feld statt.\n\n\nKontakt: Pfrn. Christina Egli und Karin
  Gubser\n\nWeitere Infos:
  https://www.kirche-gossau-flawil.ch/veranstaltung/46157
SUMMARY:"gemeinsamzeit" - Taufschiffli-Feier mit Taufmöglichkeit
PRIORITY:5
X-MICROSOFT-CDO-IMPORTANCE:1
CLASS:PUBLIC
END:VEVENT
END:VCALENDAR
