BEGIN:VCALENDAR
PRODID:-//kirchenweb.ch gmbh//veranstaltungsausgabe v2.0//DE
VERSION:2.0
METHOD:PUBLISH
BEGIN:VEVENT
DTSTART:20260522T150000Z
DTEND:20260522T173000Z
LOCATION:Haus Meise\, St.Gallerstrasse 28\, 9230 Flawil
TRANSP:OPAQUE
SEQUENCE:0
UID:46179-veranstaltung@kirche-gossau-flawil.ch
DTSTAMP:20251112T065021Z
DESCRIPTION:Kochen\, Spiele spielen\, Filme anschauen\, Töggelä\, neue
  Leute kennen lernen oder einfach nur chillen - all dies und noch vieles
  mehr kannst du mit deinen Freund*innen in der Jugendlounge erleben.\n
 \nKontakt: Eduardo Cerna\nKarin Gubser\n\nWeitere Infos:
  https://www.kirche-gossau-flawil.ch/veranstaltung/46179
SUMMARY:Jugendlounge der Mittelstufe
PRIORITY:5
X-MICROSOFT-CDO-IMPORTANCE:1
CLASS:PUBLIC
END:VEVENT
END:VCALENDAR
