BEGIN:VCALENDAR
PRODID:-//kirchenweb.ch gmbh//veranstaltungsausgabe v2.0//DE
VERSION:2.0
METHOD:PUBLISH
BEGIN:VEVENT
DTSTART:20261028T173000Z
DTEND:20261028T183000Z
LOCATION:Meditationsraum\,  Kirche Feld\, 9230 Flawil
TRANSP:OPAQUE
SEQUENCE:0
UID:46264-veranstaltung@kirche-gossau-flawil.ch
DTSTAMP:20260127T071008Z
DESCRIPTION:In der Bibel haben Menschen aus über 1000 Jahren ihre
  Glaubenserfahrungen mit Gott aufgeschrieben. Die biblischen Geschichten
  erzählen von den grossen Themen\, die Menschen zu allen Zeiten bis heute
  beschäftigen: vom Leben in Gemeinschaft\, von Liebe und Einsamkeit\, von
  Freude und Glück\, Trauer und Verzweiflung\, Glauben und Zuversicht. Das
  macht die Bibel zu einem überaus spannenden Buch! Gemeinsam lesen wir
  den Predigttext für einen der kommenden Sonntage und schauen\, was er in
  uns anspricht. \n\nEs sind keine Vorkenntnisse nötig\, alle sind
  herzlich willkommen!\n\n\nKontakt: Pfrn. Christina Egli\n\nWeitere Infos:
  https://www.kirche-gossau-flawil.ch/veranstaltung/46264
SUMMARY:Bibel to go
PRIORITY:5
X-MICROSOFT-CDO-IMPORTANCE:1
CLASS:PUBLIC
END:VEVENT
END:VCALENDAR
