BEGIN:VCALENDAR
PRODID:-//kirchenweb.ch gmbh//veranstaltungsausgabe v2.0//DE
VERSION:2.0
METHOD:PUBLISH
BEGIN:VEVENT
DTSTART:20261028T183000Z
DTEND:20261028T193000Z
LOCATION:Jugendraum KGZ\, Lindenstrasse 6a\, 9230 Flawil
TRANSP:OPAQUE
SEQUENCE:0
UID:46319-veranstaltung@kirche-gossau-flawil.ch
DTSTAMP:20260209T154212Z
DESCRIPTION:Kontakt: Berti Knellwolf\n\nWeitere Infos:
  https://www.kirche-gossau-flawil.ch/veranstaltung/46319
SUMMARY:Treffpunkt Kreativ
PRIORITY:5
X-MICROSOFT-CDO-IMPORTANCE:1
CLASS:PUBLIC
END:VEVENT
END:VCALENDAR
