BEGIN:VCALENDAR
PRODID:-//kirchenweb.ch gmbh//veranstaltungsausgabe v2.0//DE
VERSION:2.0
METHOD:PUBLISH
BEGIN:VEVENT
DTSTART:20261023T170000Z
DTEND:20261023T210000Z
LOCATION:Kirchgemeindezentrum Zwinglisaal\, Lindenstrasse 6a\, 9230 Flawil
TRANSP:OPAQUE
SEQUENCE:0
UID:46495-veranstaltung@kirche-gossau-flawil.ch
DTSTAMP:20260127T070914Z
DESCRIPTION:Findest du bei dir noch gut erhaltene Kleider\, Schuhe oder
  Accessoires\, die du nicht mehr trägst\, aber anderen gefallen könnten?
  Dann bring sie mit an unsere Kleidertauschparty.\n\nAb 19.30 Uhr kannst
  du deine Kleider und Artikel zu den beschrifteten Tischen bringen.
 \nAnschliessend darfst du in unserem «Bistro» bei einem Getränk
  warten\, bis es um 20 Uhr mit einem offiziellen Start losgeht!\nStöbere
  dann in Ruhe durch die Kleider und probiere deine ausgewählten Sachen
  an.\nLass dich von anderen Frauen beraten und nimm gratis mit\, was dir
  gefällt.\n\nAlle Sachen\, die am Ende übrigbleiben\, spenden wir an
  eine wohltätige Organisation.\n\nPro Person wird ein Unkostenbeitrag von
  CHF 5.- erhoben.\n\nEine Zusammenarbeit des Elternvereins und der
  reformierten Kirchgemeinde Flawil.\n\nKontakt: Daniela Zillig\n\nWeitere
  Infos: https://www.kirche-gossau-flawil.ch/veranstaltung/46495
SUMMARY:Kleidertauschparty
PRIORITY:5
X-MICROSOFT-CDO-IMPORTANCE:1
CLASS:PUBLIC
END:VEVENT
END:VCALENDAR
