BEGIN:VCALENDAR
PRODID:-//kirchenweb.ch gmbh//veranstaltungsausgabe v2.0//DE
VERSION:2.0
METHOD:PUBLISH
BEGIN:VEVENT
DTSTART:20261001T130000Z
DTEND:20261001T143000Z
LOCATION:Haus 5egg am Bahnhof Flawil (bitte Eingang Alterswohungen
  benützen)\, \,
TRANSP:OPAQUE
SEQUENCE:0
UID:46548-veranstaltung@kirche-gossau-flawil.ch
DTSTAMP:20251208T140948Z
DESCRIPTION:Jeden ersten Donnerstag im Monat haben Angehörige die
  Möglichkeit\, über das Erlebte zu sprechen und sich mit anderen
  Betroffenen auszutauschen.\nDie Gespräche finden in kleiner geschützter
  Runde statt; es darf sowohl geweint als auch gelacht werden. Eine
  Anmeldung ist nicht erforderlich und das Angebot ist kostenlos.
 \nTrauernde sind herzlich dazu eingeladen\, auch wenn die Trennung oder
  der Todesfall schon länger zurückliegen.\n\nAuf Ihr Kommen freut sich
  das \nTrauercafé-Team\n\n\n\nKontakt: www.hospizgruppe.ch\n\nWeitere
  Infos: https://www.kirche-gossau-flawil.ch/veranstaltung/46548
SUMMARY:Trauercafé im Haus 5egg
PRIORITY:5
X-MICROSOFT-CDO-IMPORTANCE:1
CLASS:PUBLIC
END:VEVENT
END:VCALENDAR
