BEGIN:VCALENDAR
PRODID:-//kirchenweb.ch gmbh//veranstaltungsausgabe v2.0//DE
VERSION:2.0
METHOD:PUBLISH
BEGIN:VEVENT
DTSTART:20260702T170000Z
DTEND:20260702T174500Z
LOCATION:Meditationsraum\,  Kirche Feld\, 9230 Flawil
TRANSP:OPAQUE
SEQUENCE:0
UID:46562-veranstaltung@kirche-gossau-flawil.ch
DTSTAMP:20260127T061749Z
DESCRIPTION:Angesichts der dramatischen Lage in der Ukraine zeigen sich
  auch die Schweizer Kirchen und Religionsgemeinschaften bestürzt. In
  verschiedenen Städten finden Friedensgebete statt. Auch in Flawil
  treffen sich Angehörige verschiedener Konfessionen jeweils donnerstags
  um 19 Uhr zum Friedensgebet.\n\nDie Sorge um die Menschen im Kriegsgebiet
  der Ukraine eint uns. Wir nehmen Anteil und drücken unser Mitgefühl
  aus. Wir verurteilen jede Gewalt und rufen alle politisch und
  militärisch Verantwortlichen auf\, die Eskalation der Gewalt zu beenden.
 \n\nDiese Friedensbotschaft nehmen wir in dieser Feier mit Gebeten und
  Gesängen in uns auf und tragen sie in unseren Alltag hinaus.\n\nEs
  wirken mit: \nMark Hampton\, reformierte Kirchgemeinde \nRuth Rohde\,
  katholische Kirchgemeinde\nStefan Haltinner\, methodistische
  Kirchgemeinde\n\nKontakt: Pfarrer Mark Hampton\n\nWeitere Infos:
  https://www.kirche-gossau-flawil.ch/veranstaltung/46562
SUMMARY:Flawiler Friedensgebet
PRIORITY:5
X-MICROSOFT-CDO-IMPORTANCE:1
CLASS:PUBLIC
END:VEVENT
END:VCALENDAR
