BEGIN:VCALENDAR
PRODID:-//kirchenweb.ch gmbh//veranstaltungsausgabe v2.0//DE
VERSION:2.0
METHOD:PUBLISH
BEGIN:VEVENT
DTSTART:20260626T153000Z
DTEND:20260626T163000Z
LOCATION:Sommer im Feld\, -\, 9230 Flawil
TRANSP:OPAQUE
SEQUENCE:0
UID:47694-veranstaltung@kirche-gossau-flawil.ch
DTSTAMP:20260226T082143Z
DESCRIPTION:Grillen ab 18.30 Uhr.\n\nWeitere Infos folgen.\n\nKontakt:
  Karin Gubser\n\nWeitere Infos:
  https://www.kirche-gossau-flawil.ch/veranstaltung/47694
SUMMARY:Sing-Atelier für Kinder
PRIORITY:5
X-MICROSOFT-CDO-IMPORTANCE:1
CLASS:PUBLIC
END:VEVENT
END:VCALENDAR
