BEGIN:VCALENDAR
PRODID:-//kirchenweb.ch gmbh//veranstaltungsausgabe v2.0//DE
VERSION:2.0
METHOD:PUBLISH
BEGIN:VEVENT
DTSTART:20260816T153000Z
DTEND:20260816T163000Z
LOCATION:Sommer im Feld\, \, 9230 Flawil
TRANSP:OPAQUE
SEQUENCE:0
UID:47892-veranstaltung@kirche-gossau-flawil.ch
DTSTAMP:20260416T055203Z
DESCRIPTION:Prisma mit anschliessendem Brätlen im "Sommer im Feld"\n
 \nKontakt: Pfrn. Christina Egli\n\nWeitere Infos:
  https://www.kirche-gossau-flawil.ch/veranstaltung/47892
SUMMARY:Prisma
PRIORITY:5
X-MICROSOFT-CDO-IMPORTANCE:1
CLASS:PUBLIC
END:VEVENT
END:VCALENDAR
