BEGIN:VCALENDAR
PRODID:-//kirchenweb.ch gmbh//veranstaltungsausgabe v2.0//DE
VERSION:2.0
METHOD:PUBLISH
BEGIN:VEVENT
DTSTART:20270123T083000Z
DTEND:20270123T093000Z
LOCATION:Jugendlounge Haus Meise\, St.Gallerstrasse 28\, 9230 Flawil
TRANSP:OPAQUE
SEQUENCE:0
UID:47988-veranstaltung@kirche-gossau-flawil.ch
DTSTAMP:20260401T063054Z
DESCRIPTION:Kontakt: Pfrn. Christina Egli\n\nWeitere Infos:
  https://www.kirche-gossau-flawil.ch/veranstaltung/47988
SUMMARY:Prisma
PRIORITY:5
X-MICROSOFT-CDO-IMPORTANCE:1
CLASS:PUBLIC
END:VEVENT
END:VCALENDAR
