BEGIN:VCALENDAR
PRODID:-//kirchenweb.ch gmbh//veranstaltungsausgabe v2.0//DE
VERSION:2.0
METHOD:PUBLISH
BEGIN:VEVENT
DTSTART:20260522T160000Z
DTEND:20260522T210000Z
LOCATION:Kirchgemeindezentrum Zwinglisaal\, Lindenstrasse 6a\, 9230 Flawil
TRANSP:OPAQUE
SEQUENCE:0
UID:47989-veranstaltung@kirche-gossau-flawil.ch
DTSTAMP:20260415T062017Z
DESCRIPTION:Menü und Anmeldeformular werden demnächst hier
  aufgeschaltet.\n\nKontakt: Daniela Zillig\n\nWeitere Infos:
  https://www.kirche-gossau-flawil.ch/veranstaltung/47989
SUMMARY:sing and dine
PRIORITY:5
X-MICROSOFT-CDO-IMPORTANCE:1
CLASS:PUBLIC
END:VEVENT
END:VCALENDAR
