BEGIN:VCALENDAR
PRODID:-//kirchenweb.ch gmbh//veranstaltungsausgabe v2.0//DE
VERSION:2.0
METHOD:PUBLISH
BEGIN:VEVENT
DTSTART:20260626T160000Z
DTEND:20260626T210000Z
LOCATION:Sommer im Feld\, -\, 9230 Flawil
TRANSP:OPAQUE
SEQUENCE:0
UID:47990-veranstaltung@kirche-gossau-flawil.ch
DTSTAMP:20260331T123202Z
DESCRIPTION:Wir singen und essen draussen im Sommer im Feld.\n\nMenü und
  Anmeldemöglichkeiten werden demnächst hier aufgeschaltet.\n\nKontakt:
  Daniela Zillig\n\nWeitere Infos:
  https://www.kirche-gossau-flawil.ch/veranstaltung/47990
SUMMARY:sing and grill
PRIORITY:5
X-MICROSOFT-CDO-IMPORTANCE:1
CLASS:PUBLIC
END:VEVENT
END:VCALENDAR
