BEGIN:VCALENDAR
PRODID:-//kirchenweb.ch gmbh//veranstaltungsausgabe v2.0//DE
VERSION:2.0
METHOD:PUBLISH
BEGIN:VEVENT
DTSTART:20270611T170000Z
DTEND:20270611T180000Z
LOCATION:Sommer im Feld\, \, 9230 Flawil
TRANSP:OPAQUE
SEQUENCE:0
UID:47996-veranstaltung@kirche-gossau-flawil.ch
DTSTAMP:20260401T062029Z
DESCRIPTION:Kontakt: Pfrn. Christina Egli\n\nWeitere Infos:
  https://www.kirche-gossau-flawil.ch/veranstaltung/47996
SUMMARY:Prisma
PRIORITY:5
X-MICROSOFT-CDO-IMPORTANCE:1
CLASS:PUBLIC
END:VEVENT
END:VCALENDAR
